BEGIN:VCALENDAR
VERSION:2.0
PRODID:-//XP - ECPv6.9.0//NONSGML v1.0//EN
CALSCALE:GREGORIAN
METHOD:PUBLISH
X-WR-CALNAME:XP
X-ORIGINAL-URL:https://xp.school
X-WR-CALDESC:Évènements pour XP
REFRESH-INTERVAL;VALUE=DURATION:PT1H
X-Robots-Tag:noindex
X-PUBLISHED-TTL:PT1H
BEGIN:VTIMEZONE
TZID:Europe/Paris
BEGIN:DAYLIGHT
TZOFFSETFROM:+0100
TZOFFSETTO:+0200
TZNAME:CEST
DTSTART:20250330T010000
END:DAYLIGHT
BEGIN:STANDARD
TZOFFSETFROM:+0200
TZOFFSETTO:+0100
TZNAME:CET
DTSTART:20251026T010000
END:STANDARD
END:VTIMEZONE
BEGIN:VEVENT
DTSTART;TZID=Europe/Paris:20250401T100000
DTEND;TZID=Europe/Paris:20250401T130000
DTSTAMP:20260424T104149
CREATED:20230109T091309Z
LAST-MODIFIED:20250430T095559Z
UID:29946-1743501600-1743512400@xp.school
SUMMARY:Journée Portes Ouvertes Lyon
DESCRIPTION:Entrez au sein de l’école des métiers du jeu vidéo et de l’esport et rencontrez des étudiants passionnés lors de notre prochaine Journée Portes Ouvertes au sein de notre campus XP de Lyon (4 rue du Professeur Charles Appleton\, 69007 LYON). \n\n\n\n\n\n\n\n\n\n\n\n\n\n\n\nVous êtes passionné(e)s par cet univers et vous souhaitez en savoir plus sur les cursus et les opportunités professionnelles qui s’offrent à vous ? XP Lyon vous accompagne dans votre orientation Post Bac autour des métiers du jeu vidéo et de l’esport ! \n\n\n\nInscrivez-vous à nos prochaines Journées Portes Ouvertes et profitez d’une immersion à 360° dans les campus XP. \n\n\n\n\n\nAu programme de la Journée Portes Ouvertes\n\n\n\n\nRencontre et échanges avec les étudiants de l’école XP pour en découvrir davantage sur leur parcours\n\n\n\nParticipation à des ateliers de streaming\, d’introduction à l’événementiel ou encore d’initiation à la création de jeux vidéo\n\n\n\nOrientation autour des métiers de ce secteur en croissance : présentation de la map des métiers et des perspectives d’avenir\n\n\n\nPrésentation des parcours XP de l’événementiel\, au game design au marketing des jeux vidéos en passant par le coaching et le management de joueurs.\n\n\n\n\n\n\n\n\n\n\n\n\n\n\n\n\n\n\n\n\n\n\n\n\nTout au long de ces Portes Ouvertes\, les équipes d’XP vous renseigne et vous accompagne dans vos choix professionnels. Des rendez-vous personnalisés avec le Responsable Pédagogique du campus de Lyon sont possibles pour affiner votre projet d’études. \n\n\n\n\n\n\n\nPour en savoir plus sur l’école et rendre cette immersion possible\, complétez le formulaire ci-dessous :\n\n\n\n\n\n\n\n	Remarque : JavaScript est requis pour ce contenu.
URL:https://xp.school/agenda/journee-portes-ouvertes-lyon-3/
LOCATION:4 rue du Professeur Charles Appleton\, 69007 Lyon
CATEGORIES:Agenda,Agenda Lyon
ATTACH;FMTTYPE=image/jpeg:https://xp.school/wp-content/uploads/WhatsApp-Image-2022-11-24-a-18.33.36.jpg
END:VEVENT
END:VCALENDAR